Package: XINA Version: 1.26.0 Command: /home/biocbuild/R/R/bin/R CMD build --keep-empty-dirs --no-resave-data XINA StartedAt: 2025-10-14 05:46:22 -0000 (Tue, 14 Oct 2025) EndedAt: 2025-10-14 05:47:14 -0000 (Tue, 14 Oct 2025) EllapsedTime: 52.0 seconds RetCode: 0 Status: OK PackageFile: XINA_1.26.0.tar.gz PackageFileSize: 2.732 MiB