Package: XINA Version: 1.28.0 Command: /Library/Frameworks/R.framework/Resources/bin/R CMD build --keep-empty-dirs --no-resave-data XINA StartedAt: 2025-11-02 18:08:37 -0500 (Sun, 02 Nov 2025) EndedAt: 2025-11-02 18:08:51 -0500 (Sun, 02 Nov 2025) EllapsedTime: 14.2 seconds RetCode: 0 Status: OK PackageFile: XINA_1.28.0.tar.gz PackageFileSize: 3.125 MiB