Package: XINA Version: 1.28.0 Command: rm -rf XINA.buildbin-libdir && mkdir XINA.buildbin-libdir && /Users/biocbuild/BBS/utils/build-universal.sh XINA_1.28.0.tar.gz /Library/Frameworks/R.framework/Resources/bin/R XINA.buildbin-libdir StartedAt: 2025-11-02 23:26:11 -0500 (Sun, 02 Nov 2025) EndedAt: 2025-11-02 23:26:15 -0500 (Sun, 02 Nov 2025) EllapsedTime: 4.1 seconds RetCode: 0 Status: OK PackageFile: XINA_1.28.0.tgz PackageFileSize: 3.261 MiB