Package: XDE Version: 2.56.0 Command: /home/biocbuild/bbs-3.22-bioc/R/bin/R CMD INSTALL XDE StartedAt: 2025-11-06 15:29:25 -0500 (Thu, 06 Nov 2025) EndedAt: 2025-11-06 15:30:22 -0500 (Thu, 06 Nov 2025) EllapsedTime: 56.3 seconds RetCode: 0 Status: OK