Package: XDE Version: 2.56.0 Command: /home/biocbuild/bbs-3.22-bioc/R/bin/R CMD build --keep-empty-dirs --no-resave-data --md5 XDE StartedAt: 2025-11-06 20:47:11 -0500 (Thu, 06 Nov 2025) EndedAt: 2025-11-06 20:48:20 -0500 (Thu, 06 Nov 2025) EllapsedTime: 69.0 seconds RetCode: 0 Status: OK PackageFile: XDE_2.56.0.tar.gz PackageFileSize: 1.321 MiB