Package: XAItest Version: 1.2.0 Command: /home/biocbuild/bbs-3.22-bioc/R/bin/R CMD check --install=check:XAItest.install-out.txt --library=/home/biocbuild/bbs-3.22-bioc/R/site-library --timings XAItest_1.2.0.tar.gz StartedAt: 2025-11-15 05:39:51 -0500 (Sat, 15 Nov 2025) EndedAt: 2025-11-15 05:41:55 -0500 (Sat, 15 Nov 2025) EllapsedTime: 124.2 seconds RetCode: 0 Status: WARNINGS CheckDir: XAItest.Rcheck Warnings: 2