Package: XAItest Version: 1.0.3 Command: /home/biocbuild/bbs-3.21-bioc/R/bin/R CMD INSTALL XAItest StartedAt: 2025-10-15 15:21:30 -0400 (Wed, 15 Oct 2025) EndedAt: 2025-10-15 15:21:33 -0400 (Wed, 15 Oct 2025) EllapsedTime: 2.5 seconds RetCode: 0 Status: OK