Package: XAItest Version: 1.0.3 Command: /home/biocbuild/bbs-3.21-bioc/R/bin/R CMD build --keep-empty-dirs --no-resave-data XAItest StartedAt: 2025-10-15 20:32:25 -0400 (Wed, 15 Oct 2025) EndedAt: 2025-10-15 20:34:15 -0400 (Wed, 15 Oct 2025) EllapsedTime: 110.1 seconds RetCode: 0 Status: OK PackageFile: XAItest_1.0.3.tar.gz PackageFileSize: 889.1 KiB