Package: XAItest Version: 1.2.0 Command: rm -rf XAItest.buildbin-libdir && mkdir XAItest.buildbin-libdir && /Users/biocbuild/BBS/utils/build-universal.sh XAItest_1.2.0.tar.gz /Library/Frameworks/R.framework/Resources/bin/R XAItest.buildbin-libdir StartedAt: 2025-11-01 02:04:31 -0400 (Sat, 01 Nov 2025) EndedAt: 2025-11-01 02:04:38 -0400 (Sat, 01 Nov 2025) EllapsedTime: 7.0 seconds RetCode: 0 Status: OK PackageFile: XAItest_1.2.0.tgz PackageFileSize: 1.02 MiB