Package: XAItest Version: 1.0.3 Command: /home/biocbuild/R/R/bin/R CMD INSTALL XAItest StartedAt: 2025-10-06 20:34:19 -0000 (Mon, 06 Oct 2025) EndedAt: 2025-10-06 20:34:22 -0000 (Mon, 06 Oct 2025) EllapsedTime: 3.6 seconds RetCode: 0 Status: OK