Package: XAItest Version: 1.0.3 Command: /home/biocbuild/R/R/bin/R CMD build --keep-empty-dirs --no-resave-data XAItest StartedAt: 2025-10-07 05:38:22 -0000 (Tue, 07 Oct 2025) EndedAt: 2025-10-07 05:41:10 -0000 (Tue, 07 Oct 2025) EllapsedTime: 168.1 seconds RetCode: 0 Status: OK PackageFile: XAItest_1.0.3.tar.gz PackageFileSize: 879.2 KiB