Package: XAItest Version: 1.0.3 Command: /Library/Frameworks/R.framework/Resources/bin/R CMD build --keep-empty-dirs --no-resave-data XAItest StartedAt: 2025-10-14 11:59:01 -0400 (Tue, 14 Oct 2025) EndedAt: 2025-10-14 12:02:35 -0400 (Tue, 14 Oct 2025) EllapsedTime: 214.4 seconds RetCode: 0 Status: OK PackageFile: XAItest_1.0.3.tar.gz PackageFileSize: 941.6 KiB