Package: XAItest Version: 1.0.3 Command: rm -rf XAItest.buildbin-libdir && mkdir XAItest.buildbin-libdir && /Users/biocbuild/BBS/utils/build-universal.sh XAItest_1.0.3.tar.gz /Library/Frameworks/R.framework/Resources/bin/R XAItest.buildbin-libdir StartedAt: 2025-10-15 21:02:15 -0400 (Wed, 15 Oct 2025) EndedAt: 2025-10-15 21:02:20 -0400 (Wed, 15 Oct 2025) EllapsedTime: 4.6 seconds RetCode: 0 Status: OK PackageFile: XAItest_1.0.3.tgz PackageFileSize: 742 KiB