Package: Wrench Version: 1.28.0 Command: /home/biocbuild/bbs-3.22-bioc/R/bin/R CMD INSTALL Wrench StartedAt: 2025-11-14 15:05:15 -0500 (Fri, 14 Nov 2025) EndedAt: 2025-11-14 15:05:37 -0500 (Fri, 14 Nov 2025) EllapsedTime: 21.8 seconds RetCode: 0 Status: OK