Package: VplotR Version: 1.20.0 Command: /home/biocbuild/R/R/bin/R CMD INSTALL VplotR StartedAt: 2025-11-10 21:59:32 -0000 (Mon, 10 Nov 2025) EndedAt: 2025-11-10 22:00:13 -0000 (Mon, 10 Nov 2025) EllapsedTime: 41.3 seconds RetCode: 0 Status: OK