Package: VplotR Version: 1.20.0 Command: /home/biocbuild/R/R/bin/R CMD check --install=check:VplotR.install-out.txt --library=/home/biocbuild/R/R/site-library --no-vignettes --timings VplotR_1.20.0.tar.gz StartedAt: 2025-11-11 16:15:51 -0000 (Tue, 11 Nov 2025) EndedAt: 2025-11-11 16:22:52 -0000 (Tue, 11 Nov 2025) EllapsedTime: 421.6 seconds RetCode: 0 Status: OK CheckDir: VplotR.Rcheck Warnings: 0