Package: VplotR Version: 1.20.0 Command: /home/biocbuild/bbs-3.22-bioc/R/bin/R CMD build --keep-empty-dirs --no-resave-data --md5 VplotR StartedAt: 2025-11-11 20:52:47 -0500 (Tue, 11 Nov 2025) EndedAt: 2025-11-11 20:54:34 -0500 (Tue, 11 Nov 2025) EllapsedTime: 107.1 seconds RetCode: 0 Status: OK PackageFile: VplotR_1.20.0.tar.gz PackageFileSize: 5.156 MiB