Package: VplotR Version: 1.18.0 Command: /home/biocbuild/bbs-3.21-bioc/R/bin/R CMD INSTALL VplotR StartedAt: 2025-09-28 16:04:29 -0400 (Sun, 28 Sep 2025) EndedAt: 2025-09-28 16:04:59 -0400 (Sun, 28 Sep 2025) EllapsedTime: 30.6 seconds RetCode: 0 Status: OK