Package: VplotR Version: 1.20.0 Command: /Library/Frameworks/R.framework/Resources/bin/R CMD check --install=check:VplotR.install-out.txt --library=/Library/Frameworks/R.framework/Resources/library --no-vignettes --timings VplotR_1.20.0.tar.gz StartedAt: 2025-11-01 00:59:26 -0400 (Sat, 01 Nov 2025) EndedAt: 2025-11-01 01:05:16 -0400 (Sat, 01 Nov 2025) EllapsedTime: 350.5 seconds RetCode: 0 Status: OK CheckDir: VplotR.Rcheck Warnings: 0