Package: VisiumIO Version: 1.6.2 Command: /home/biocbuild/R/R/bin/R CMD INSTALL VisiumIO StartedAt: 2025-11-20 22:10:59 -0000 (Thu, 20 Nov 2025) EndedAt: 2025-11-20 22:11:33 -0000 (Thu, 20 Nov 2025) EllapsedTime: 34.3 seconds RetCode: 0 Status: OK