Package: VisiumIO Version: 1.6.2 Command: /home/biocbuild/R/R/bin/R CMD build --keep-empty-dirs --no-resave-data VisiumIO StartedAt: 2025-11-21 06:48:17 -0000 (Fri, 21 Nov 2025) EndedAt: 2025-11-21 06:49:11 -0000 (Fri, 21 Nov 2025) EllapsedTime: 54.0 seconds RetCode: 0 Status: OK PackageFile: VisiumIO_1.6.2.tar.gz PackageFileSize: 1.853 MiB