Package: VisiumIO Version: 1.4.3 Command: /home/biocbuild/bbs-3.21-bioc/R/bin/R CMD build --keep-empty-dirs --no-resave-data VisiumIO StartedAt: 2025-10-15 20:29:02 -0400 (Wed, 15 Oct 2025) EndedAt: 2025-10-15 20:29:42 -0400 (Wed, 15 Oct 2025) EllapsedTime: 40.0 seconds RetCode: 0 Status: OK PackageFile: VisiumIO_1.4.3.tar.gz PackageFileSize: 1.507 MiB