Package: VisiumIO Version: 1.4.3 Command: /home/biocbuild/R/R/bin/R CMD INSTALL VisiumIO StartedAt: 2025-09-25 20:52:38 -0000 (Thu, 25 Sep 2025) EndedAt: 2025-09-25 20:53:16 -0000 (Thu, 25 Sep 2025) EllapsedTime: 37.9 seconds RetCode: 0 Status: OK