Package: VisiumIO Version: 1.4.3 Command: /home/biocbuild/R/R/bin/R CMD build --keep-empty-dirs --no-resave-data VisiumIO StartedAt: 2025-09-26 06:56:57 -0000 (Fri, 26 Sep 2025) EndedAt: 2025-09-26 06:57:54 -0000 (Fri, 26 Sep 2025) EllapsedTime: 57.0 seconds RetCode: 0 Status: OK PackageFile: VisiumIO_1.4.3.tar.gz PackageFileSize: 1.531 MiB