Package: VisiumIO Version: 1.4.3 Command: /Library/Frameworks/R.framework/Resources/bin/R CMD INSTALL VisiumIO StartedAt: 2025-10-13 16:17:33 -0400 (Mon, 13 Oct 2025) EndedAt: 2025-10-13 16:18:04 -0400 (Mon, 13 Oct 2025) EllapsedTime: 30.8 seconds RetCode: 0 Status: OK