Package: ViSEAGO Version: 1.24.0 Command: /home/biocbuild/bbs-3.22-bioc/R/bin/R CMD INSTALL ViSEAGO StartedAt: 2025-11-13 15:42:40 -0500 (Thu, 13 Nov 2025) EndedAt: 2025-11-13 15:43:17 -0500 (Thu, 13 Nov 2025) EllapsedTime: 37.8 seconds RetCode: 0 Status: OK