Package: VennDetail Version: 1.26.0 Command: /home/biocbuild/bbs-3.22-bioc/R/bin/R CMD INSTALL VennDetail StartedAt: 2025-11-03 15:09:58 -0500 (Mon, 03 Nov 2025) EndedAt: 2025-11-03 15:10:15 -0500 (Mon, 03 Nov 2025) EllapsedTime: 17.1 seconds RetCode: 0 Status: OK