Package: VennDetail Version: 1.26.0 Command: /home/biocbuild/bbs-3.22-bioc/R/bin/R CMD build --keep-empty-dirs --no-resave-data --md5 VennDetail StartedAt: 2025-11-02 20:58:16 -0500 (Sun, 02 Nov 2025) EndedAt: 2025-11-02 20:58:33 -0500 (Sun, 02 Nov 2025) EllapsedTime: 17.0 seconds RetCode: 0 Status: OK PackageFile: VennDetail_1.26.0.tar.gz PackageFileSize: 834.5 KiB