Package: VegaMC Version: 3.48.0 Command: /Library/Frameworks/R.framework/Resources/bin/R CMD INSTALL VegaMC StartedAt: 2025-11-10 15:09:15 -0500 (Mon, 10 Nov 2025) EndedAt: 2025-11-10 15:09:23 -0500 (Mon, 10 Nov 2025) EllapsedTime: 7.6 seconds RetCode: 0 Status: OK