Package: VegaMC Version: 3.48.0 Command: /Library/Frameworks/R.framework/Resources/bin/R CMD build --keep-empty-dirs --no-resave-data VegaMC StartedAt: 2025-11-10 18:07:13 -0500 (Mon, 10 Nov 2025) EndedAt: 2025-11-10 18:07:26 -0500 (Mon, 10 Nov 2025) EllapsedTime: 13.1 seconds RetCode: 0 Status: OK PackageFile: VegaMC_3.48.0.tar.gz PackageFileSize: 1.776 MiB