Package: VegaMC Version: 3.48.0 Command: rm -rf VegaMC.buildbin-libdir && mkdir VegaMC.buildbin-libdir && /Users/biocbuild/BBS/utils/build-universal.sh VegaMC_3.48.0.tar.gz /Library/Frameworks/R.framework/Resources/bin/R VegaMC.buildbin-libdir StartedAt: 2025-11-10 23:40:44 -0500 (Mon, 10 Nov 2025) EndedAt: 2025-11-10 23:40:52 -0500 (Mon, 10 Nov 2025) EllapsedTime: 8.1 seconds RetCode: 0 Status: OK PackageFile: VegaMC_3.48.0.tgz PackageFileSize: 1.882 MiB