Package: VariantTools Version: 1.52.0 Command: /home/biocbuild/R/R/bin/R CMD build --keep-empty-dirs --no-resave-data VariantTools StartedAt: 2025-11-11 06:05:45 -0000 (Tue, 11 Nov 2025) EndedAt: 2025-11-11 06:07:03 -0000 (Tue, 11 Nov 2025) EllapsedTime: 78.1 seconds RetCode: 1 Status: ERROR PackageFile: None PackageFileSize: NA