Package: VariantTools Version: 1.52.0 Command: /home/biocbuild/bbs-3.22-bioc/R/bin/R CMD INSTALL VariantTools StartedAt: 2025-11-11 15:47:33 -0500 (Tue, 11 Nov 2025) EndedAt: 2025-11-11 15:48:15 -0500 (Tue, 11 Nov 2025) EllapsedTime: 41.5 seconds RetCode: 0 Status: OK