Package: VariantTools Version: 1.50.0 Command: /home/biocbuild/R/R/bin/R CMD INSTALL VariantTools StartedAt: 2025-09-25 20:58:32 -0000 (Thu, 25 Sep 2025) EndedAt: 2025-09-25 20:59:30 -0000 (Thu, 25 Sep 2025) EllapsedTime: 58.2 seconds RetCode: 0 Status: OK