Package: VariantExperiment Version: 1.22.0 Command: /Library/Frameworks/R.framework/Resources/bin/R CMD INSTALL VariantExperiment StartedAt: 2025-10-13 15:44:59 -0400 (Mon, 13 Oct 2025) EndedAt: 2025-10-13 15:45:51 -0400 (Mon, 13 Oct 2025) EllapsedTime: 51.5 seconds RetCode: 0 Status: OK