Package: VariantExperiment Version: 1.22.0 Command: /Library/Frameworks/R.framework/Resources/bin/R CMD build --keep-empty-dirs --no-resave-data VariantExperiment StartedAt: 2025-04-21 18:48:54 -0400 (Mon, 21 Apr 2025) EndedAt: 2025-04-21 18:49:35 -0400 (Mon, 21 Apr 2025) EllapsedTime: 41.1 seconds RetCode: 1 Status: ERROR PackageFile: None PackageFileSize: NA