Package: VariantExperiment Version: 1.22.0 Command: /Library/Frameworks/R.framework/Resources/bin/R CMD INSTALL VariantExperiment StartedAt: 2025-09-25 16:34:51 -0400 (Thu, 25 Sep 2025) EndedAt: 2025-09-25 16:35:21 -0400 (Thu, 25 Sep 2025) EllapsedTime: 30.2 seconds RetCode: 0 Status: OK