Package: VariantExperiment Version: 1.22.0 Command: /Library/Frameworks/R.framework/Resources/bin/R CMD build --keep-empty-dirs --no-resave-data VariantExperiment StartedAt: 2025-09-26 11:26:30 -0400 (Fri, 26 Sep 2025) EndedAt: 2025-09-26 11:27:14 -0400 (Fri, 26 Sep 2025) EllapsedTime: 44.4 seconds RetCode: 1 Status: ERROR PackageFile: None PackageFileSize: NA