Package: VariantAnnotation Version: 1.56.0 Command: /home/biocbuild/R/R/bin/R CMD INSTALL VariantAnnotation StartedAt: 2025-11-10 21:47:26 -0000 (Mon, 10 Nov 2025) EndedAt: 2025-11-10 21:49:01 -0000 (Mon, 10 Nov 2025) EllapsedTime: 95.3 seconds RetCode: 0 Status: OK