Package: VariantAnnotation Version: 1.56.0 Command: /home/biocbuild/R/R/bin/R CMD check --install=check:VariantAnnotation.install-out.txt --library=/home/biocbuild/R/R/site-library --no-vignettes --timings VariantAnnotation_1.56.0.tar.gz StartedAt: 2025-11-11 16:10:36 -0000 (Tue, 11 Nov 2025) EndedAt: 2025-11-11 16:22:11 -0000 (Tue, 11 Nov 2025) EllapsedTime: 695.0 seconds RetCode: 0 Status: WARNINGS CheckDir: VariantAnnotation.Rcheck Warnings: 1