Package: VariantAnnotation Version: 1.56.0 Command: /home/biocbuild/R/R/bin/R CMD build --keep-empty-dirs --no-resave-data VariantAnnotation StartedAt: 2025-11-11 06:05:21 -0000 (Tue, 11 Nov 2025) EndedAt: 2025-11-11 06:09:23 -0000 (Tue, 11 Nov 2025) EllapsedTime: 242.2 seconds RetCode: 0 Status: OK PackageFile: VariantAnnotation_1.56.0.tar.gz PackageFileSize: 2.056 MiB