Package: VariantAnnotation Version: 1.56.0 Command: /home/biocbuild/bbs-3.22-bioc/R/bin/R CMD INSTALL VariantAnnotation StartedAt: 2025-11-11 15:43:42 -0500 (Tue, 11 Nov 2025) EndedAt: 2025-11-11 15:44:52 -0500 (Tue, 11 Nov 2025) EllapsedTime: 70.1 seconds RetCode: 0 Status: OK