Package: VariantAnnotation Version: 1.54.1 Command: /home/biocbuild/bbs-3.21-bioc/R/bin/R CMD check --install=check:VariantAnnotation.install-out.txt --library=/home/biocbuild/bbs-3.21-bioc/R/site-library --timings VariantAnnotation_1.54.1.tar.gz StartedAt: 2025-09-29 04:42:53 -0400 (Mon, 29 Sep 2025) EndedAt: 2025-09-29 04:52:09 -0400 (Mon, 29 Sep 2025) EllapsedTime: 556.7 seconds RetCode: 0 Status: WARNINGS CheckDir: VariantAnnotation.Rcheck Warnings: 2