Package: VariantAnnotation Version: 1.54.1 Command: /Library/Frameworks/R.framework/Resources/bin/R CMD check --install=check:VariantAnnotation.install-out.txt --library=/Library/Frameworks/R.framework/Resources/library --no-vignettes --timings VariantAnnotation_1.54.1.tar.gz StartedAt: 2025-10-14 12:06:05 -0400 (Tue, 14 Oct 2025) EndedAt: 2025-10-14 12:21:43 -0400 (Tue, 14 Oct 2025) EllapsedTime: 938.3 seconds RetCode: 0 Status: WARNINGS CheckDir: VariantAnnotation.Rcheck Warnings: 2