Package: VarCon Version: 1.18.0 Command: /home/biocbuild/bbs-3.22-bioc/R/bin/R CMD INSTALL VarCon StartedAt: 2025-11-11 15:36:15 -0500 (Tue, 11 Nov 2025) EndedAt: 2025-11-11 15:36:53 -0500 (Tue, 11 Nov 2025) EllapsedTime: 38.6 seconds RetCode: 0 Status: OK