Package: VarCon Version: 1.16.0 Command: /home/biocbuild/bbs-3.21-bioc/R/bin/R CMD build --keep-empty-dirs --no-resave-data VarCon StartedAt: 2025-10-15 20:27:00 -0400 (Wed, 15 Oct 2025) EndedAt: 2025-10-15 20:27:52 -0400 (Wed, 15 Oct 2025) EllapsedTime: 52.0 seconds RetCode: 0 Status: OK PackageFile: VarCon_1.16.0.tar.gz PackageFileSize: 1.89 MiB