Package: VarCon Version: 1.16.0 Command: /home/biocbuild/R/R/bin/R CMD build --keep-empty-dirs --no-resave-data VarCon StartedAt: 2025-09-30 06:09:45 -0000 (Tue, 30 Sep 2025) EndedAt: 2025-09-30 06:10:58 -0000 (Tue, 30 Sep 2025) EllapsedTime: 73.0 seconds RetCode: 0 Status: OK PackageFile: VarCon_1.16.0.tar.gz PackageFileSize: 1.915 MiB