Package: VarCon Version: 1.16.0 Command: rm -rf VarCon.buildbin-libdir && mkdir VarCon.buildbin-libdir && /Users/biocbuild/BBS/utils/build-universal.sh VarCon_1.16.0.tar.gz /Library/Frameworks/R.framework/Resources/bin/R VarCon.buildbin-libdir StartedAt: 2025-10-15 20:58:19 -0400 (Wed, 15 Oct 2025) EndedAt: 2025-10-15 20:59:12 -0400 (Wed, 15 Oct 2025) EllapsedTime: 53.3 seconds RetCode: 0 Status: OK PackageFile: VarCon_1.16.0.tgz PackageFileSize: 2.014 MiB