Package: VarCon Version: 1.18.0 Maintainer: Johannes Ptok MaintainerEmail: Johannes.Ptok at posteo.de git_url: https://git.bioconductor.org/packages/VarCon git_branch: RELEASE_3_22 git_last_commit: 5d3f112 git_last_commit_date: 2025-10-29 11:04:47 -0400 (Wed, 29 Oct 2025)