Package: VanillaICE Version: 1.72.0 Command: /home/biocbuild/bbs-3.22-bioc/R/bin/R CMD INSTALL VanillaICE StartedAt: 2025-11-13 15:36:53 -0500 (Thu, 13 Nov 2025) EndedAt: 2025-11-13 15:37:30 -0500 (Thu, 13 Nov 2025) EllapsedTime: 36.9 seconds RetCode: 0 Status: OK